BEGIN:VCALENDAR
VERSION:2.0
PRODID:-//Steeples - ECPv5.0.1//NONSGML v1.0//EN
CALSCALE:GREGORIAN
METHOD:PUBLISH
X-WR-CALNAME:Steeples
X-ORIGINAL-URL:http://www.steeples.net.au
X-WR-CALDESC:Events for Steeples
BEGIN:VTIMEZONE
TZID:UTC
BEGIN:STANDARD
TZOFFSETFROM:+0000
TZOFFSETTO:+0000
TZNAME:UTC
DTSTART:20200101T000000
END:STANDARD
END:VTIMEZONE
BEGIN:VEVENT
DTSTART;TZID=UTC:20200101T080000
DTEND;TZID=UTC:20200229T233000
DTSTAMP:20200228T071543
CREATED:20191217T180019Z
LAST-MODIFIED:20191217T180020Z
UID:1675-1577865600-1583019000@www.steeples.net.au
SUMMARY:Jan & Feb Drinks Of The Month
DESCRIPTION:Join us throughout January & February to take advantage of these great offers! \n\n$6 Carlton Dry Schooners\n$6 Stella Artois Stubbies\n$7 (small) $9 (large) Glass of Tatachilla White Admiral Pinot Grigio\n$1 Tanqueray Gin Upgrade\n$10 Jugs of Soft Drink\n\nThis venue practices responsible service \n*Conditions apply \n
URL:http://www.steeples.net.au/event/jan-feb-drinks-of-the-month/
CATEGORIES:featured
ATTACH;FMTTYPE=image/jpeg:http://www.steeples.net.au/wp-content/uploads/2019/12/Drinks-of-the-month_Digital_JAN_FEB20-01-TV-wide-scaled.jpg
END:VEVENT
BEGIN:VEVENT
DTSTART;TZID=UTC:20200124T090000
DTEND;TZID=UTC:20200209T210000
DTSTAMP:20200228T071543
CREATED:20191218T192035Z
LAST-MODIFIED:20200120T124722Z
UID:1679-1579856400-1581282000@www.steeples.net.au
SUMMARY:Red Envelope Giveaway
DESCRIPTION:Win a share of $2\,500 in cash! \nTo celebrate Lunar New Year we’re offering you the chance to win a share of over $2\,500 in cash. \nSimply swipe your card at the kiosk or when you purchase food & drinks between Friday 24 January and Sunday 9 February for your chance to win. \nClick here for Terms and Conditions \n
URL:http://www.steeples.net.au/event/red-envelope-giveaway/
CATEGORIES:featured
ATTACH;FMTTYPE=image/jpeg:http://www.steeples.net.au/wp-content/uploads/2020/01/VP190312_MAX_LunarNewYearGiveaway_LCD_H_VICB_HR.jpg
END:VEVENT
END:VCALENDAR