BEGIN:VCALENDAR
VERSION:2.0
PRODID:-//Steeples - ECPv5.0.1//NONSGML v1.0//EN
CALSCALE:GREGORIAN
METHOD:PUBLISH
X-WR-CALNAME:Steeples
X-ORIGINAL-URL:http://www.steeples.net.au
X-WR-CALDESC:Events for Steeples
BEGIN:VTIMEZONE
TZID:UTC
BEGIN:STANDARD
TZOFFSETFROM:+0000
TZOFFSETTO:+0000
TZNAME:UTC
DTSTART:20190101T000000
END:STANDARD
END:VTIMEZONE
BEGIN:VEVENT
DTSTART;TZID=UTC:20191104T090000
DTEND;TZID=UTC:20191231T235900
DTSTAMP:20200228T075616
CREATED:20191029T192728Z
LAST-MODIFIED:20191029T192729Z
UID:1643-1572858000-1577836740@www.steeples.net.au
SUMMARY:Drinks of the Month
DESCRIPTION:Join us throughout November & December to take advantage of these great offers! \nSTARTING MONDAY 4 NOVEMBER \n*$8 VB Pints \n*$7 Glass of T’Gallant Prosecco \n*$6 Corona Bottles \n*$1 Ketel One Vodka Upgrade \nThis venue practices responsible service \n*Conditions apply \n
URL:http://www.steeples.net.au/event/drinks-of-the-month/
CATEGORIES:featured
ATTACH;FMTTYPE=image/jpeg:http://www.steeples.net.au/wp-content/uploads/2019/10/Drinks-of-the-month_Digital_NOV_DEC19-01.jpg
END:VEVENT
BEGIN:VEVENT
DTSTART;TZID=UTC:20191225T120000
DTEND;TZID=UTC:20191225T150000
DTSTAMP:20200228T075616
CREATED:20191009T152616Z
LAST-MODIFIED:20191009T153029Z
UID:1629-1577275200-1577286000@www.steeples.net.au
SUMMARY:Book Now For Christmas
DESCRIPTION:Celebrate Christmas Day with us here at Steeples. \nAdults 3 Course – $125\nKids 3 to 12 years– $35\nKids 2 years & Under – Free \nView Christmas Day Menu here \nDietary requirements available upon booking only.\nPlease phone 5976 0700 for all enquiries and bookings. \n
URL:http://www.steeples.net.au/event/book-now-for-christmas/
CATEGORIES:featured
ATTACH;FMTTYPE=image/jpeg:http://www.steeples.net.au/wp-content/uploads/2019/10/PLG-Book-Now-Christmas-2019_customer-facing-POS-screen.jpg
END:VEVENT
END:VCALENDAR