BEGIN:VCALENDAR
VERSION:2.0
PRODID:-//Steeples - ECPv5.0.1//NONSGML v1.0//EN
CALSCALE:GREGORIAN
METHOD:PUBLISH
X-WR-CALNAME:Steeples
X-ORIGINAL-URL:http://www.steeples.net.au
X-WR-CALDESC:Events for Steeples
BEGIN:VTIMEZONE
TZID:UTC
BEGIN:STANDARD
TZOFFSETFROM:+0000
TZOFFSETTO:+0000
TZNAME:UTC
DTSTART:20190101T000000
END:STANDARD
END:VTIMEZONE
BEGIN:VEVENT
DTSTART;TZID=UTC:20191107T110000
DTEND;TZID=UTC:20191107T180000
DTSTAMP:20200228T073613
CREATED:20190923T024446Z
LAST-MODIFIED:20190923T024446Z
UID:1615-1573124400-1573149600@www.steeples.net.au
SUMMARY:Oaks Day French High Tea
DESCRIPTION:Join us here at Steeples for Oaks Day French High Tea!\nThursday 7 November from 11am \n$75 per person\nIncludes:\n– Champagne on arrival\n– A selection of canapes\n– Main course\n– Dessert of Petit Fours \nPlus join our “Best Dressed Competition” for your chance to WIN a $200 Venue Voucher! \nBookings Essential Ph:5976 0700\nConditions apply \n
URL:http://www.steeples.net.au/event/oaks-day-french-high-tea/
CATEGORIES:featured
ATTACH;FMTTYPE=image/jpeg:http://www.steeples.net.au/wp-content/uploads/2019/09/Steeples_Oaks-Day-2019-TV-wide.jpg
END:VEVENT
END:VCALENDAR